BEGIN:VCALENDAR
VERSION:2.0
PRODID:-//Komplex Schüttorf - ECPv6.15.20//NONSGML v1.0//EN
CALSCALE:GREGORIAN
METHOD:PUBLISH
X-WR-CALNAME:Komplex Schüttorf
X-ORIGINAL-URL:https://www.komplex-schuettorf.de
X-WR-CALDESC:Veranstaltungen für Komplex Schüttorf
REFRESH-INTERVAL;VALUE=DURATION:PT1H
X-Robots-Tag:noindex
X-PUBLISHED-TTL:PT1H
BEGIN:VTIMEZONE
TZID:Europe/Berlin
BEGIN:DAYLIGHT
TZOFFSETFROM:+0100
TZOFFSETTO:+0200
TZNAME:CEST
DTSTART:20250330T010000
END:DAYLIGHT
BEGIN:STANDARD
TZOFFSETFROM:+0200
TZOFFSETTO:+0100
TZNAME:CET
DTSTART:20251026T010000
END:STANDARD
BEGIN:DAYLIGHT
TZOFFSETFROM:+0100
TZOFFSETTO:+0200
TZNAME:CEST
DTSTART:20260329T010000
END:DAYLIGHT
BEGIN:STANDARD
TZOFFSETFROM:+0200
TZOFFSETTO:+0100
TZNAME:CET
DTSTART:20261025T010000
END:STANDARD
BEGIN:DAYLIGHT
TZOFFSETFROM:+0100
TZOFFSETTO:+0200
TZNAME:CEST
DTSTART:20270328T010000
END:DAYLIGHT
BEGIN:STANDARD
TZOFFSETFROM:+0200
TZOFFSETTO:+0100
TZNAME:CET
DTSTART:20271031T010000
END:STANDARD
END:VTIMEZONE
BEGIN:VEVENT
DTSTART;TZID=Europe/Berlin:20260327T210000
DTEND;TZID=Europe/Berlin:20260327T235900
DTSTAMP:20260425T130607
CREATED:20251208T090200Z
LAST-MODIFIED:20251208T090200Z
UID:9676-1774645200-1774655940@www.komplex-schuettorf.de
SUMMARY:Open Jam Session
DESCRIPTION:Du wolltest schon immer mal bei einer Jam Session mitmachen? Dann schnapp dir dein Instrument und komm zu unserer Open Jam Session – jeden letzten Freitag im Monat!  \nFür Anfänger und Semi-Profis! Hier tauschen Musikerinnen und Musiker nicht nur Akkorde und Melodien aus sondern auch Kontakte und Erfahrungen. Egal\, welche Musikrichtung du am liebsten spielst – hier ist jede(r) willkommen! \nDas erwartet dich:\nVon 21-24 Uhr Open Stage | PA-Technik & Backline inklusive | Drumset & Techniker vor Ort\nAustausch unter Musikschaffenden | Kaltgetränke zu günstigen Preisen | kostenlose Teilnahme \nPromo Gigs möglich! Unsere Jam Session bietet eine offene Bühne – nicht nur zum jammen! Solisten\, Duos und Bands können sich gerne für einen Promo Gig anmelden und erhalten bis zu 30 Minuten Spielzeit. Der restliche Abend dient der gemeinsamen Session.  Voraussetzungen für einen Promo Gig: Datum & Spielzeit werden gemeinsam im Rahmen der Session Termine festgelegt. Der Promo Gig erfolgt gagenfrei. Technische Voraussetzungen dürfen den Jam Session Charakter nicht übersteigen. Respektvoller Umgang. Die Open Jam Session wird von unseren Mitgliedern ehrenamtlich organisiert.\nPromo Gig anmelden
URL:https://www.komplex-schuettorf.de/event/open-jam-session/
LOCATION:Komplex Schüttorf\, Mauerstraße 56\, Schüttorf\, Niedersachsen\, 48465\, Deutschland
CATEGORIES:Diverses,Konzert
ATTACH;FMTTYPE=image/jpeg:https://www.komplex-schuettorf.de/wp-content/uploads/2024/10/web_jam.jpg
ORGANIZER;CN="UJZ Komplex":MAILTO:rainer.bluhm@komplex-schuettorf.de
END:VEVENT
END:VCALENDAR